BEGIN:VCALENDAR
VERSION:2.0
PRODID:-//Schützenclub Diana - ECPv6.8.3//NONSGML v1.0//EN
CALSCALE:GREGORIAN
METHOD:PUBLISH
X-ORIGINAL-URL:https://sc-diana-niederhadamar.de
X-WR-CALDESC:Veranstaltungen für Schützenclub Diana
REFRESH-INTERVAL;VALUE=DURATION:PT1H
X-Robots-Tag:noindex
X-PUBLISHED-TTL:PT1H
BEGIN:VTIMEZONE
TZID:UTC
BEGIN:STANDARD
TZOFFSETFROM:+0000
TZOFFSETTO:+0000
TZNAME:UTC
DTSTART:20240101T000000
END:STANDARD
END:VTIMEZONE
BEGIN:VEVENT
DTSTART;TZID=UTC:20240511T150000
DTEND;TZID=UTC:20240511T230000
DTSTAMP:20260421T231849
CREATED:20240225T133842Z
LAST-MODIFIED:20240317T191905Z
UID:670-1715439600-1715468400@sc-diana-niederhadamar.de
SUMMARY:Königsschießen
DESCRIPTION:
URL:https://sc-diana-niederhadamar.de/event/koenigsschiessen/
LOCATION:Schützenclub Diana\, Pfortenstraße\, Hadamar-Niederhadamar\, 65589\, Deutschland
ATTACH;FMTTYPE=image/jpeg:https://sc-diana-niederhadamar.de/wp-content/uploads/2024/02/king-1304612_1280.jpg
END:VEVENT
END:VCALENDAR