BEGIN:VCALENDAR
VERSION:2.0
PRODID:-//Schützenclub Diana - ECPv6.8.3//NONSGML v1.0//EN
CALSCALE:GREGORIAN
METHOD:PUBLISH
X-WR-CALNAME:Schützenclub Diana
X-ORIGINAL-URL:https://sc-diana-niederhadamar.de
X-WR-CALDESC:Veranstaltungen für Schützenclub Diana
REFRESH-INTERVAL;VALUE=DURATION:PT1H
X-Robots-Tag:noindex
X-PUBLISHED-TTL:PT1H
BEGIN:VTIMEZONE
TZID:UTC
BEGIN:STANDARD
TZOFFSETFROM:+0000
TZOFFSETTO:+0000
TZNAME:UTC
DTSTART:20240101T000000
END:STANDARD
END:VTIMEZONE
BEGIN:VEVENT
DTSTART;TZID=UTC:20240329T100000
DTEND;TZID=UTC:20240329T170000
DTSTAMP:20260422T022702
CREATED:20240225T133111Z
LAST-MODIFIED:20240225T143432Z
UID:667-1711706400-1711731600@sc-diana-niederhadamar.de
SUMMARY:Ostereierschießen Tag 4
DESCRIPTION:Ostereierschießen\n\n\n\n \ndes \n\n\n \nSchützenclubs DIANA Niederhadamar 1967 e.V. \n\n\n \nSchützenhaus an der Pfortenstraße in 65589 Niederhadamar \n\n\n \nmit einer Spende für \n\n\n \nHospiz ANAVENA in Hadamar \n\n\n \nSchirmherr: \n\n\n \nThomas Weikert Präsident des Deutschen Olympischen Sportbundes \n\n\n \nOrtsvorsteher \n\n\n \n5 Schuss Luftgewehr ● Aufgelegt 10 m ● Preis: 3 Euro \n\n\n \n(Kinder bis 12 Jahre Lichtgewehrschießen) \n\n\n \nOstereier \n\n\n \n1 Osterei   ab 20 Ringen \n\n\n \n2 Ostereier ab 25 Ringen \n\n\n \n3 Ostereier ab 30 Ringen \n\n\n \n4 Ostereier ab 35 Ringen \n\n\n \n5 Ostereier ab 40 Ringen \n\n\n \n6 Ostereier ab 45 Ringen \n\n\n \nEröffnung:             Freitag         22.03.2024 18:00 – 22:00 Uhr \n\n\n \n                                  Samstag      23.03.2024 13:00 – 18:00 Uhr \n\n\n \n                               Donnerstag       28.03.2024  18:00 – 22:00 Uhr \n\n\n \nAbschluss:            Karfreitag      29.03.2024  10:00 – 17:00 Uhr \n\n\n \nDer Schützenclub würde sich\, auch im Namen des Hospiz ANAVENA\, über eine rege Beteiligung \n\n\n \nder Bürgerinnen und Bürger freuen. Auch Firmen und Vereine sind herzlich willkommen. \n\n\n \nFür Speisen und Getränke ist gesorgt \n\n\n \nKarfreitag mit Heringsessen (mit der Bitte um Voranmeldung) \n\n\n \nJeder kann kommen! \n\n\n \nAllgemeine Öffnungszeiten des Schützenclubs DIANA Niederhadamar 1967 e.V. \n\n\n \nFreitags: 19:30 bis 00:30 Uhr \n\n\n \nTelefon: 06433/2721 ● E-Mail: kontakt@sc-diana-niederhadamar.de \n\n\n \nwww.sc-diana-niederhadamar.de
URL:https://sc-diana-niederhadamar.de/event/ostereeierschiessen-tag-4/
LOCATION:Schützenclub Diana\, Pfortenstraße\, Hadamar-Niederhadamar\, 65589\, Deutschland
ATTACH;FMTTYPE=image/jpeg:https://sc-diana-niederhadamar.de/wp-content/uploads/2024/02/easter-2093315_1280.jpg
END:VEVENT
END:VCALENDAR